BEGIN:VCALENDAR
VERSION:2.0
PRODID:GlueUp
CALSCALE:GREGORIAN
BEGIN:VTIMEZONE
TZID:UTC
BEGIN:STANDARD
DTSTART:19700101T000000
TZOFFSETFROM:+0000
TZOFFSETTO:+0000
TZNAME:UTC
END:STANDARD
END:VTIMEZONE
BEGIN:VEVENT
TZ:+00
ORGANIZER;CN=Claire Song:MAILTO:office-bj@bencham.org
UID:50236-1776773498@https://benchambeijing.glueup.cn
DTSTAMP:20260421T121138Z
DTSTART:20260429T103000Z
DTEND:20260429T123000Z
SUMMARY:04.29 | Join us for the Benelux Business Drink @ Renaissance Beijing Capital Hotel
DESCRIPTION:04.29 | Join us for the Benelux Business Drink @ Renaissance Beijing Capital Hotel by Benelux Chamber of Commerce in China | North China | Beijing\n\nApr 29, 2026 (6:30 PM - 8:30 PM)(GMT+8)\n\nFor more information, click here: https://benchambeijing.glueup.cn/my/events/50236
LOCATION:Renaissance Beijing Capital Hotel 北京富力万丽酒店 - 北京市朝阳区东三环中路61号 北京 - China
BEGIN:VALARM
TRIGGER:-PT48H
REPEAT:4
DURATION:PT30M
ACTION:DISPLAY
END:VALARM
END:VEVENT
END:VCALENDAR