BEGIN:VCALENDAR
VERSION:2.0
PRODID:GlueUp
CALSCALE:GREGORIAN
BEGIN:VTIMEZONE
TZID:UTC
BEGIN:STANDARD
DTSTART:19700101T000000
TZOFFSETFROM:+0000
TZOFFSETTO:+0000
TZNAME:UTC
END:STANDARD
END:VTIMEZONE
BEGIN:VEVENT
TZ:+00
ORGANIZER;CN=Claire Song:MAILTO:office-bj@bencham.org
UID:48643-1777133612@https://benchambeijing.glueup.cn
DTSTAMP:20260425T161332Z
DTSTART:20251023T103000Z
DTEND:20251023T133000Z
SUMMARY:10.23 | Beer Tasting Night
DESCRIPTION:10.23 | Beer Tasting Night by Benelux Chamber of Commerce in China | North China | Beijing\n\nOct 23, 2025 (6:30 PM - 9:30 PM)(GMT+8)\n\nFor more information, click here: https://benchambeijing.glueup.cn/my/events/48643
LOCATION:EAST Beijing - 北京市朝阳区酒仙桥路22号 北京 - China
BEGIN:VALARM
TRIGGER:-PT48H
REPEAT:4
DURATION:PT30M
ACTION:DISPLAY
END:VALARM
END:VEVENT
END:VCALENDAR