BEGIN:VCALENDAR
VERSION:2.0
PRODID:GlueUp
CALSCALE:GREGORIAN
BEGIN:VTIMEZONE
TZID:UTC
BEGIN:STANDARD
DTSTART:19700101T000000
TZOFFSETFROM:+0000
TZOFFSETTO:+0000
TZNAME:UTC
END:STANDARD
END:VTIMEZONE
BEGIN:VEVENT
TZ:+00
ORGANIZER;CN=Claire Song:MAILTO:office-bj@bencham.org
UID:49379-1776681447@https://benchambeijing.glueup.cn
DTSTAMP:20260420T103727Z
DTSTART:20260205T011500Z
DTEND:20260205T034500Z
SUMMARY:Government Relations Management: Strategy, Principle, Technique, and Issue Management (in Chinese)
DESCRIPTION:Government Relations Management: Strategy, Principle, Technique, and Issue Management (in Chinese) by Benelux Chamber of Commerce in China | North China | Beijing\n\nFebruary 5, 2026\n9:15 AM - 11:45 AM(GMT+8)\n\nFor more information and to attend the online event, click here:\n\nEvent Website: https://benchambeijing.glueup.cn/my/events/49379\n\nEvent Link: https://teams.microsoft.com/meet/41691602631080?p=SWhfGE3rSEdnbZi2Ah
LOCATION:https://teams.microsoft.com/meet/41691602631080?p=SWhfGE3rSEdnbZi2Ah
BEGIN:VALARM
TRIGGER:-PT1H
REPEAT:4
DURATION:PT15M
ACTION:DISPLAY
END:VALARM
END:VEVENT
END:VCALENDAR