BEGIN:VCALENDAR
VERSION:2.0
PRODID:GlueUp
CALSCALE:GREGORIAN
BEGIN:VTIMEZONE
TZID:UTC
BEGIN:STANDARD
DTSTART:19700101T000000
TZOFFSETFROM:+0000
TZOFFSETTO:+0000
TZNAME:UTC
END:STANDARD
END:VTIMEZONE
BEGIN:VEVENT
TZ:+00
ORGANIZER;CN=Claire Song:MAILTO:office-bj@bencham.org
UID:49419-1776681490@https://benchambeijing.glueup.cn
DTSTAMP:20260420T103810Z
DTSTART:20260206T070000Z
DTEND:20260206T090000Z
SUMMARY:Hybrid: 海南自贸港封关运作与欧洲企业发展机遇研讨会（中文活动 IN CHINESE)
DESCRIPTION:Benelux Chamber of Commerce in China | North China | Beijing发布活动Hybrid: 海南自贸港封关运作与欧洲企业发展机遇研讨会（中文活动 IN CHINESE)\n\n2026年02月06日（15:00 - 17:00）(GMT+8)\n\n更多信息，访问https://benchambeijing.glueup.cn/my/events/49419
LOCATION:玖安广场A座 - 北京市东城区安定门外大街208号玖安广场A座
BEGIN:VALARM
TRIGGER:-PT48H
REPEAT:4
DURATION:PT30M
ACTION:DISPLAY
END:VALARM
END:VEVENT
END:VCALENDAR