BEGIN:VCALENDAR
VERSION:2.0
PRODID:GlueUp
CALSCALE:GREGORIAN
BEGIN:VTIMEZONE
TZID:UTC
BEGIN:STANDARD
DTSTART:19700101T000000
TZOFFSETFROM:+0000
TZOFFSETTO:+0000
TZNAME:UTC
END:STANDARD
END:VTIMEZONE
BEGIN:VEVENT
TZ:+00
ORGANIZER;CN=Benelux Chamber Hoogendijk:MAILTO:beijing@bencham.org
UID:32356-1776766340@https://benchambeijing.glueup.cn
DTSTAMP:20260421T101220Z
DTSTART:20210624T080000Z
DTEND:20210624T100000Z
SUMMARY:Sino-Benelux Business Survey 2021 | Survey Launch
DESCRIPTION:Sino-Benelux Business Survey 2021 | Survey Launch by Benelux Chamber of Commerce in China | North China | Beijing\n\nJun 24, 2021 (4:00 PM - 6:00 PM)(GMT+8)\n\nFor more information, click here: https://benchambeijing.glueup.cn/my/events/32356
LOCATION:Embassy of the Kingdom of Belgium - No.3 Sanlitun Dongsanjie - Beijing 100600 - PR China Beijing - China
BEGIN:VALARM
TRIGGER:-PT48H
REPEAT:4
DURATION:PT30M
ACTION:DISPLAY
END:VALARM
END:VEVENT
END:VCALENDAR