BEGIN:VCALENDAR
VERSION:2.0
PRODID:GlueUp
CALSCALE:GREGORIAN
BEGIN:VTIMEZONE
TZID:UTC
BEGIN:STANDARD
DTSTART:19700101T000000
TZOFFSETFROM:+0000
TZOFFSETTO:+0000
TZNAME:UTC
END:STANDARD
END:VTIMEZONE
BEGIN:VEVENT
TZ:+00
ORGANIZER;CN=Claire Song:MAILTO:office-bj@bencham.org
UID:49832-1776964640@https://benchambeijing.glueup.cn
DTSTAMP:20260423T171720Z
DTSTART:20260326T103000Z
DTEND:20260326T130000Z
SUMMARY:The Entrepreneurial Mindset: Innovate, Adapt, Succeed – Think Like an Entrepreneur
DESCRIPTION:The Entrepreneurial Mindset: Innovate, Adapt, Succeed – Think Like an Entrepreneur by Benelux Chamber of Commerce in China | North China | Beijing\n\nMar 26, 2026 (6:30 PM - 9:00 PM)(GMT+8)\n\nFor more information, click here: https://benchambeijing.glueup.cn/my/events/49832
LOCATION:Capital Club - 北京市朝阳区新源南路6号京城大厦50层
BEGIN:VALARM
TRIGGER:-PT48H
REPEAT:4
DURATION:PT30M
ACTION:DISPLAY
END:VALARM
END:VEVENT
END:VCALENDAR