BEGIN:VCALENDAR
VERSION:2.0
PRODID:GlueUp
CALSCALE:GREGORIAN
BEGIN:VTIMEZONE
TZID:UTC
BEGIN:STANDARD
DTSTART:19700101T000000
TZOFFSETFROM:+0000
TZOFFSETTO:+0000
TZNAME:UTC
END:STANDARD
END:VTIMEZONE
BEGIN:VEVENT
TZ:+00
ORGANIZER;CN=Claire Song:MAILTO:office-bj@bencham.org
UID:49468-1776964563@https://benchambeijing.glueup.cn
DTSTAMP:20260423T171603Z
DTSTART:20260204T073000Z
DTEND:20260204T100000Z
SUMMARY:外籍人士来华签证政策及在华工作生活事务分享会 （中文活动 IN CHINESE)
DESCRIPTION:Benelux Chamber of Commerce in China | North China | Beijing发布活动外籍人士来华签证政策及在华工作生活事务分享会 （中文活动 IN CHINESE)\n\n2026年02月04日（15:30 - 18:00）(GMT+8)\n\n更多信息，访问https://benchambeijing.glueup.cn/my/events/49468
LOCATION:CCI FRANCE CHINE Beijing Office - 北京市朝阳区工体北路4号院81号楼二层 - Suites 201-222 - 2F - Building 81 - No.4 Gongti North Road - Chaoyang District - Beijing
BEGIN:VALARM
TRIGGER:-PT48H
REPEAT:4
DURATION:PT30M
ACTION:DISPLAY
END:VALARM
END:VEVENT
END:VCALENDAR